BEGIN:VCALENDAR
VERSION:2.0
PRODID:-//3HO La Fontaine - ECPv6.15.18//NONSGML v1.0//EN
CALSCALE:GREGORIAN
METHOD:PUBLISH
X-WR-CALNAME:3HO La Fontaine
X-ORIGINAL-URL:https://3ho-lafontaine.fr
X-WR-CALDESC:Évènements pour 3HO La Fontaine
REFRESH-INTERVAL;VALUE=DURATION:PT1H
X-Robots-Tag:noindex
X-PUBLISHED-TTL:PT1H
BEGIN:VTIMEZONE
TZID:Europe/Paris
BEGIN:DAYLIGHT
TZOFFSETFROM:+0100
TZOFFSETTO:+0200
TZNAME:CEST
DTSTART:20250330T010000
END:DAYLIGHT
BEGIN:STANDARD
TZOFFSETFROM:+0200
TZOFFSETTO:+0100
TZNAME:CET
DTSTART:20251026T010000
END:STANDARD
BEGIN:DAYLIGHT
TZOFFSETFROM:+0100
TZOFFSETTO:+0200
TZNAME:CEST
DTSTART:20260329T010000
END:DAYLIGHT
BEGIN:STANDARD
TZOFFSETFROM:+0200
TZOFFSETTO:+0100
TZNAME:CET
DTSTART:20261025T010000
END:STANDARD
BEGIN:DAYLIGHT
TZOFFSETFROM:+0100
TZOFFSETTO:+0200
TZNAME:CEST
DTSTART:20270328T010000
END:DAYLIGHT
BEGIN:STANDARD
TZOFFSETFROM:+0200
TZOFFSETTO:+0100
TZNAME:CET
DTSTART:20271031T010000
END:STANDARD
END:VTIMEZONE
BEGIN:VEVENT
DTSTART;VALUE=DATE:20260501
DTEND;VALUE=DATE:20260511
DTSTAMP:20260421T132019
CREATED:20260324T080656Z
LAST-MODIFIED:20260324T080656Z
UID:2896-1777593600-1778457599@3ho-lafontaine.fr
SUMMARY:Seva et Sangat
DESCRIPTION:Seva et Sangat. \n— du 1er 10 mai — \nMoment de rencontre et de seva pour ensemble préparer le site de la Fontaine pour la saison 2026. \nVous pouvez venir pour toute la période ou pour quelques jours\,  ou un ou deux weekends\,  à votre convenance. \nOuvert à tous. \nLibre participation aux frais et inscription par mail.
URL:https://3ho-lafontaine.fr/event/seva-et-sangat/
LOCATION:La Fontaine\, l'Ubac\, Barret sur Méouge\, 05300\, France
END:VEVENT
BEGIN:VEVENT
DTSTART;TZID=Europe/Paris:20260522T080000
DTEND;TZID=Europe/Paris:20260524T170000
DTSTAMP:20260421T132019
CREATED:20260305T100042Z
LAST-MODIFIED:20260305T100042Z
UID:2875-1779436800-1779642000@3ho-lafontaine.fr
SUMMARY:Weekend KY avec Bahuta Karam\, du 22 au 24 mai
DESCRIPTION:Sat Naam Jios\,Prabhu Ram Singh et moi-même avons le plaisir de vous annoncer un week end de Kundalini Yoga à la Fontaine du vendredi 22 mai au dimanche 24 mai.Nous aborderons le thème de la communication consciente. Week end de pratiques ouvert à tous.tes débutants ou non en Yoga. Autogestion\, camping et spirit!Milles bénédictions ✨Kalyan Arti Kaur
URL:https://3ho-lafontaine.fr/event/weekend-ky-avec-bahuta-karam-du-22-au-24-mai/
LOCATION:La Fontaine\, l'Ubac\, Barret sur Méouge\, 05300\, France
END:VEVENT
BEGIN:VEVENT
DTSTART;TZID=Europe/Paris:20260529T110000
DTEND;TZID=Europe/Paris:20260531T160000
DTSTAMP:20260421T132019
CREATED:20260310T143618Z
LAST-MODIFIED:20260310T143618Z
UID:2883-1780052400-1780243200@3ho-lafontaine.fr
SUMMARY:Kundalini Yoga et ashram du 29 au 31 mai
DESCRIPTION:Trois jours d’expérience immersive en ashram\, organisés par Habiba. \nKundalini Yoga\, détente\, nature et partage. \nPour tout renseignement\, contactez Habiba. \nInsta : @lequationdubienetre \n       
URL:https://3ho-lafontaine.fr/event/kundalini-yoga-et-ashram-du-29-au-31-mai/
LOCATION:La Fontaine\, l'Ubac\, Barret sur Méouge\, 05300\, France
END:VEVENT
BEGIN:VEVENT
DTSTART;TZID=Europe/Paris:20260612T180000
DTEND;TZID=Europe/Paris:20260614T180000
DTSTAMP:20260421T132019
CREATED:20260115T122657Z
LAST-MODIFIED:20260115T122859Z
UID:2841-1781287200-1781460000@3ho-lafontaine.fr
SUMMARY:Viva Bhakti 2026
DESCRIPTION:Festival Viva Bhakti 2026 du 12 au 14 juin \nFestival de dévotion par la dance et la musique
URL:https://3ho-lafontaine.fr/event/viva-bhakti-2026/
LOCATION:La Fontaine\, l'Ubac\, Barret sur Méouge\, 05300\, France
END:VEVENT
BEGIN:VEVENT
DTSTART;TZID=Europe/Paris:20260703T180000
DTEND;TZID=Europe/Paris:20260707T173000
DTSTAMP:20260421T132019
CREATED:20260115T123215Z
LAST-MODIFIED:20260115T123215Z
UID:2846-1783101600-1783445400@3ho-lafontaine.fr
SUMMARY:Festival de Kundalini Yoga 2026
DESCRIPTION:Festival de Kundalini Yoga de la Fontaine du 3 au 7 juillet \nPratiques et enseignements du Kundalini Yoga et rencontre de la Sangat
URL:https://3ho-lafontaine.fr/event/festival-de-kundalini-yoga-2026/
LOCATION:La Fontaine\, l'Ubac\, Barret sur Méouge\, 05300\, France
END:VEVENT
BEGIN:VEVENT
DTSTART;TZID=Europe/Paris:20260714T080000
DTEND;TZID=Europe/Paris:20260817T170000
DTSTAMP:20260421T132019
CREATED:20260305T101357Z
LAST-MODIFIED:20260402T084040Z
UID:2881-1784016000-1786986000@3ho-lafontaine.fr
SUMMARY:Summer Sangat Days du 14 juillet au 16 août
DESCRIPTION:Cet été\, nous vous proposons de nouveau à séjourner seul.e\, entre amis ou en famille à La Fontaine. \nComme l’an dernier\, Sanpreet Kaur contribuera à l’organisation de ce mois de rencontres\, échanges et pratiques ensembles. \nLa Fontaine est aussi une aire naturelle de camping offrant une magnifique nature\, rivière\, gorges spectaculaires et cascades à proximité! \nPour plus d’informations sur les tarifs : c’est ici \nDans le cadre de ces rencontres\, la Fontaine propose un tarif spécial qui permet de combiner seva et vacances :\n– cinq heures de seva par jour : gratuit\n– deux heures de seva par jour : 18€ par jour\, tout compris\n– sans aucun seva : les tarifs standards ici  \nNotez que pour séjourner à la Fontaine et participer aux activités proposées\, l’adhésion à l’association (5€ pour l’année civile) est obligatoire. \nContactez-nous pour toutes vos demandes et réservations.
URL:https://3ho-lafontaine.fr/event/summer-sangat-days-du-14-juillet-au-17-aout/
END:VEVENT
BEGIN:VEVENT
DTSTART;TZID=Europe/Paris:20260813T080000
DTEND;TZID=Europe/Paris:20260816T170000
DTSTAMP:20260421T132019
CREATED:20260305T095316Z
LAST-MODIFIED:20260326T150637Z
UID:2873-1786608000-1786899600@3ho-lafontaine.fr
SUMMARY:Rencontre des enseignants 2026
DESCRIPTION:La Fontaine propose du 13 au 16 août une rencontre des enseignants de Kundalini Yoga. Au programme : Sadhana\, forum ouvert\, pratiques\, échanges sur notre vie d’enseignant\, nos défis\, nos joies et nos difficultés\, nos questionnements sur le contexte très changeant du yoga et du Kundalini Yoga ces temps-ci. Nous co-construirons cet espace avec les propositions de chacun.e (pratiques et espaces d’échanges). Tarifs d’hébergement habituel à La Fontaine (entre 12 et 16€/nuit)\, et donation libre pour les repas (minimum 20€/jour pour couvrir les frais).
URL:https://3ho-lafontaine.fr/event/rencontre-des-enseignants-2026/
LOCATION:La Fontaine\, l'Ubac\, Barret sur Méouge\, 05300\, France
END:VEVENT
END:VCALENDAR